BEGIN:VCALENDAR
VERSION:2.0
PRODID:hinto.net
X-PUBLISHED-TTL:P1W
BEGIN:VEVENT
UID:hinto.net-event_show-6930106
DTSTART:20260501T203000
SEQUENCE:0
CREATED:20260420T222402
LAST-MODIFIED:20260420T222402
TRANSP:OPAQUE

LOCATION:Manoir de Martigny
SUMMARY:NAXATRAS [GR]
CLASS:PUBLIC
DESCRIPTION:
ORGANIZER:
DTSTAMP:20260424T173848
ATTACH:https://www.hinto.ch/de/events/naxatras-[gr]-01-05-2026-2030-manoir-de-martigny-martigny-e2851892-20.html
END:VEVENT
END:VCALENDAR
